BEGIN:VCALENDAR
VERSION:2.0
PRODID:-//Plone.org//NONSGML plone.app.event//EN
X-WR-TIMEZONE:Europe/Rome
BEGIN:VEVENT
SUMMARY:Coding e minirobotica per tutti
DTSTART;TZID=Europe/Rome;VALUE=DATE-TIME:20190927T160000
DTEND;TZID=Europe/Rome;VALUE=DATE-TIME:20190927T180000
DTSTAMP;VALUE=DATE-TIME:20260420T114752Z
UID:2dd27f73e2e34e64ba20035d2aaf74b4@www.modenasmartlife.it
ATTENDEE;CN="ragazzi da 6 a 13 anni";ROLE=REQ-PARTICIPANT:ragazzi da 6 a 1
 3 anni
CATEGORIES:FORMAZIONE
CREATED;VALUE=DATE-TIME:20190822T085237Z
DESCRIPTION:Laboratori per diverse fasce d’età organizzati da Makeitmod
 ena con gli Istituti Comprensivi
GEO:44.6484801;10.9216224
LAST-MODIFIED;VALUE=DATE-TIME:20200212T104801Z
LOCATION;ALTREP="https://www.modenasmartlife.it/luoghi/ago-modena-fabbrich
 e-culturali":AGO Modena Fabbriche Culturali\, Largo Porta Sant'Agostino\, 
 228\, 41121 Modena\, Italy
URL:https://www.modenasmartlife.it/edizioni-precedenti/2019/programma-2019
 /eventi/27-settembre-2019/coding-e-minirobotica-per-tutti
END:VEVENT
BEGIN:VTIMEZONE
TZID:Europe/Rome
X-LIC-LOCATION:Europe/Rome
BEGIN:DAYLIGHT
DTSTART;VALUE=DATE-TIME:20190331T030000
TZNAME:CEST
TZOFFSETFROM:+0100
TZOFFSETTO:+0200
END:DAYLIGHT
END:VTIMEZONE
END:VCALENDAR
