BEGIN:VCALENDAR
VERSION:2.0
PRODID:-//Plone.org//NONSGML plone.app.event//EN
X-WR-TIMEZONE:Europe/Rome
BEGIN:VEVENT
SUMMARY:Smart Fashion
DTSTART;TZID=Europe/Rome;VALUE=DATE-TIME:20190928T183000
DTSTAMP;VALUE=DATE-TIME:20260420T112745Z
UID:8d2f821535a74e5b86069d1a00ad6cf8@www.modenasmartlife.it
CATEGORIES:ARTI PERFORMATIVE,FORMAZIONE
CREATED;VALUE=DATE-TIME:20190910T100444Z
DESCRIPTION:Sfilata di moda arricchita da led\, matrici luminose e sensori
GEO:44.6484801;10.9216224
LAST-MODIFIED;VALUE=DATE-TIME:20200212T104802Z
LOCATION;ALTREP="https://www.modenasmartlife.it/luoghi/ago-modena-fabbrich
 e-culturali":AGO Modena Fabbriche Culturali\, Largo Porta Sant'Agostino\, 
 228\, 41121 Modena\, Italy
URL:https://www.modenasmartlife.it/edizioni-precedenti/2019/programma-2019
 /eventi/28-settembre-2019/augumented-fashion
END:VEVENT
BEGIN:VTIMEZONE
TZID:Europe/Rome
X-LIC-LOCATION:Europe/Rome
BEGIN:DAYLIGHT
DTSTART;VALUE=DATE-TIME:20190331T030000
TZNAME:CEST
TZOFFSETFROM:+0100
TZOFFSETTO:+0200
END:DAYLIGHT
END:VTIMEZONE
END:VCALENDAR
