BEGIN:VCALENDAR
VERSION:2.0
PRODID:-//Plone.org//NONSGML plone.app.event//EN
X-WR-TIMEZONE:Europe/Rome
BEGIN:VEVENT
SUMMARY:Smart Participation
DTSTART;TZID=Europe/Rome;VALUE=DATE-TIME:20190928T180000
DTSTAMP;VALUE=DATE-TIME:20260420T111348Z
UID:a6e02557d45948ee9de4af2c0470badc@www.modenasmartlife.it
CATEGORIES:SERVIZI ONLINE,FORMAZIONE
CREATED;VALUE=DATE-TIME:20190820T145558Z
DESCRIPTION:Workshop a cura del Centro Culturale Ferrari
GEO:44.6459849032;10.9262278676
LAST-MODIFIED;VALUE=DATE-TIME:20200212T104801Z
LOCATION;ALTREP="https://www.modenasmartlife.it/luoghi/comune-di-modena-ga
 lleria-europa":Comune di Modena - Galleria Europa\, Piazza Grande\, 17\, 4
 1121 Modena\, Italy
URL:https://www.modenasmartlife.it/edizioni-precedenti/2019/programma-2019
 /eventi/28-settembre-2019/smart-participation
END:VEVENT
BEGIN:VTIMEZONE
TZID:Europe/Rome
X-LIC-LOCATION:Europe/Rome
BEGIN:DAYLIGHT
DTSTART;VALUE=DATE-TIME:20190331T030000
TZNAME:CEST
TZOFFSETFROM:+0100
TZOFFSETTO:+0200
END:DAYLIGHT
END:VTIMEZONE
END:VCALENDAR
