BEGIN:VCALENDAR
VERSION:2.0
PRODID:-//Plone.org//NONSGML plone.app.event//EN
X-WR-TIMEZONE:Europe/Rome
BEGIN:VEVENT
SUMMARY:A  Ciascuno  il  suo  abito:  tra  moda  e  tecnologia
DTSTART;TZID=Europe/Rome;VALUE=DATE-TIME:20191006T160000
DTSTAMP;VALUE=DATE-TIME:20260424T213754Z
UID:f558286b94944faa97d08447b15c1e1f@www.modenasmartlife.it
CATEGORIES:FRONTIERA TECNOLOGICA,ARTI PERFORMATIVE,ETICA
CREATED;VALUE=DATE-TIME:20190827T153113Z
DESCRIPTION:Laboratorio di Realtà Virtuale (VR) con la Dott.ssa V. Sichi 
 Psicologa - Psicoterapeuta (Fondazione ANT) ed il Dottor A. Giannelli (Tir
 ocinante ANT)
GEO:44.639057;10.922572
LAST-MODIFIED;VALUE=DATE-TIME:20200212T104805Z
LOCATION;ALTREP="https://www.modenasmartlife.it/luoghi/laboratorio-aperto-
 modena":Laboratorio Aperto Modena\, Viale Buon Pastore\, 43\, 41125 Modena
 \, Italy
URL:https://www.modenasmartlife.it/edizioni-precedenti/2019/programma-2019
 /eventi/anteprime-ed-eventi-collaterali/a-ciascuno-il-suo-abito-tra-moda-e
 -tecnologia
END:VEVENT
BEGIN:VTIMEZONE
TZID:Europe/Rome
X-LIC-LOCATION:Europe/Rome
BEGIN:DAYLIGHT
DTSTART;VALUE=DATE-TIME:20190331T030000
TZNAME:CEST
TZOFFSETFROM:+0100
TZOFFSETTO:+0200
END:DAYLIGHT
END:VTIMEZONE
END:VCALENDAR
