BEGIN:VCALENDAR
VERSION:2.0
PRODID:-//Plone.org//NONSGML plone.app.event//EN
X-WR-TIMEZONE:Europe/Rome
BEGIN:VEVENT
SUMMARY:Ho una stampante 3D... e adesso? Come e perché della stampa 3D
DTSTART;TZID=Europe/Rome;VALUE=DATE-TIME:20190909T173000
DTSTAMP;VALUE=DATE-TIME:20260420T123451Z
UID:30ac215fed1146b4a01d00c9e671927e@www.modenasmartlife.it
CATEGORIES:FRONTIERA TECNOLOGICA,FORMAZIONE
CREATED;VALUE=DATE-TIME:20190827T150101Z
DESCRIPTION:A cura della Palestra digitale “Makeitmodena” e rientrano 
 nel progetto regionale “Pane e internet”
GEO:44.6459849032;10.9262278676
LAST-MODIFIED;VALUE=DATE-TIME:20200212T104804Z
LOCATION;ALTREP="https://www.modenasmartlife.it/luoghi/comune-di-modena-ga
 lleria-europa":Comune di Modena - Galleria Europa\, Piazza Grande\, 17\, 4
 1121 Modena\, Italy
URL:https://www.modenasmartlife.it/edizioni-precedenti/2019/programma-2019
 /eventi/anteprime-ed-eventi-collaterali/ho-una-stampante-3d-e-adesso-come-
 e-perche-della-stampa-3d
END:VEVENT
BEGIN:VTIMEZONE
TZID:Europe/Rome
X-LIC-LOCATION:Europe/Rome
BEGIN:DAYLIGHT
DTSTART;VALUE=DATE-TIME:20190331T030000
TZNAME:CEST
TZOFFSETFROM:+0100
TZOFFSETTO:+0200
END:DAYLIGHT
END:VTIMEZONE
END:VCALENDAR
