BEGIN:VCALENDAR
VERSION:2.0
PRODID:-//Plone.org//NONSGML plone.app.event//EN
X-WR-TIMEZONE:Europe/Rome
BEGIN:VEVENT
SUMMARY:Come avviare un progetto di Smart City
DTSTART;TZID=Europe/Rome;VALUE=DATE-TIME:20190927T150000
DTSTAMP;VALUE=DATE-TIME:20260421T103936Z
UID:052b82ee6d61412596b0176c8e463748@www.modenasmartlife.it
CATEGORIES:SERVIZI ONLINE,AMBIENTE,FRONTIERA TECNOLOGICA
CREATED;VALUE=DATE-TIME:20190820T092604Z
DESCRIPTION:Workshop dedicato agli operatori della PA a cura di Fondazione
  Comunica
GEO:44.6482469;10.9210346
LAST-MODIFIED;VALUE=DATE-TIME:20200212T104804Z
LOCATION;ALTREP="https://www.modenasmartlife.it/luoghi/palazzo-dei-musei-s
 ala-ex-oratorio":Palazzo dei Musei Sala Ex Oratorio\, largo Porta Sant'Ago
 stino 337\, 41121 Modena\, Italy
URL:https://www.modenasmartlife.it/edizioni-precedenti/2019/programma-2019
 /eventi/spazi-off/smart-city
END:VEVENT
BEGIN:VTIMEZONE
TZID:Europe/Rome
X-LIC-LOCATION:Europe/Rome
BEGIN:DAYLIGHT
DTSTART;VALUE=DATE-TIME:20190331T030000
TZNAME:CEST
TZOFFSETFROM:+0100
TZOFFSETTO:+0200
END:DAYLIGHT
END:VTIMEZONE
END:VCALENDAR
