BEGIN:VCALENDAR
VERSION:2.0
PRODID:-//Plone.org//NONSGML plone.app.event//EN
X-WR-TIMEZONE:Europe/Rome
BEGIN:VEVENT
SUMMARY:Gli strumenti del digitale nella sanità
DTSTART;TZID=Europe/Rome;VALUE=DATE-TIME:20200921T173000
DTEND;TZID=Europe/Rome;VALUE=DATE-TIME:20200921T183000
DTSTAMP;VALUE=DATE-TIME:20260422T104608Z
UID:f7e2e0e7a70647ac8800a714c27f1e84@www.modenasmartlife.it
CATEGORIES:LA P.A. COME NUOVA PIAZZA VIRTUALE
CREATED;VALUE=DATE-TIME:20190718T083750Z
DESCRIPTION:Digital conference. A cura di AUSL di Modena
LAST-MODIFIED;VALUE=DATE-TIME:20210225T134032Z
LOCATION:DIRETTA STREAMING
URL:https://www.modenasmartlife.it/edizioni-precedenti/2020/programma-21-s
 ettembre/strumenti-del-digitale-nella-salute-mentale
END:VEVENT
BEGIN:VTIMEZONE
TZID:Europe/Rome
X-LIC-LOCATION:Europe/Rome
BEGIN:DAYLIGHT
DTSTART;VALUE=DATE-TIME:20200329T030000
TZNAME:CEST
TZOFFSETFROM:+0100
TZOFFSETTO:+0200
END:DAYLIGHT
END:VTIMEZONE
END:VCALENDAR
