BEGIN:VCALENDAR
VERSION:2.0
PRODID:-//Plone.org//NONSGML plone.app.event//EN
X-WR-TIMEZONE:Europe/Rome
BEGIN:VEVENT
SUMMARY:Le professioni in Rete: esperienze e buone pratiche sull’uso del
 la Rete\, raccontate dagli Ordini e Collegi Professionali della provincia 
 di Modena
DTSTART;TZID=Europe/Rome;VALUE=DATE-TIME:20200923T153000
DTEND;TZID=Europe/Rome;VALUE=DATE-TIME:20200923T173000
DTSTAMP;VALUE=DATE-TIME:20260422T103935Z
UID:b96282fcbe9f4bd2946105b084ed246f@www.modenasmartlife.it
CATEGORIES:LA P.A. COME NUOVA PIAZZA VIRTUALE,ECONOMIA REALE VS ECONOMIA V
 IRTUALE
CREATED;VALUE=DATE-TIME:20190718T083750Z
DESCRIPTION:Live speeches
LAST-MODIFIED;VALUE=DATE-TIME:20210225T134035Z
LOCATION:DIRETTA STREAMING
URL:https://www.modenasmartlife.it/edizioni-precedenti/2020/programma-23-s
 ettembre/le-professioni-in-rete-esperienze-e-buone-pratiche-sulluso-della-
 rete-raccontate-dagli-ordini-professionali-della-provincia-di-modena
END:VEVENT
BEGIN:VTIMEZONE
TZID:Europe/Rome
X-LIC-LOCATION:Europe/Rome
BEGIN:DAYLIGHT
DTSTART;VALUE=DATE-TIME:20200329T030000
TZNAME:CEST
TZOFFSETFROM:+0100
TZOFFSETTO:+0200
END:DAYLIGHT
END:VTIMEZONE
END:VCALENDAR
