BEGIN:VCALENDAR
VERSION:2.0
PRODID:-//Plone.org//NONSGML plone.app.event//EN
X-WR-TIMEZONE:Europe/Rome
BEGIN:VEVENT
SUMMARY:Avvocatura modenese al servizio del cittadino
DTSTART;TZID=Europe/Rome;VALUE=DATE-TIME:20200924T123000
DTEND;TZID=Europe/Rome;VALUE=DATE-TIME:20200924T133000
DTSTAMP;VALUE=DATE-TIME:20260422T104704Z
UID:7ae4cf52f36b41b6a55a4be544a68e2d@www.modenasmartlife.it
CATEGORIES:LA P.A. COME NUOVA PIAZZA VIRTUALE
CREATED;VALUE=DATE-TIME:20200914T130435Z
DESCRIPTION:Digital conference
LAST-MODIFIED;VALUE=DATE-TIME:20210225T134036Z
LOCATION:DIRETTA STREAMING
URL:https://www.modenasmartlife.it/edizioni-precedenti/2020/programma-24-s
 ettembre/avvocatura-modenese-al-servizio-del-cittadino
END:VEVENT
BEGIN:VTIMEZONE
TZID:Europe/Rome
X-LIC-LOCATION:Europe/Rome
BEGIN:DAYLIGHT
DTSTART;VALUE=DATE-TIME:20200329T030000
TZNAME:CEST
TZOFFSETFROM:+0100
TZOFFSETTO:+0200
END:DAYLIGHT
END:VTIMEZONE
END:VCALENDAR
