BEGIN:VCALENDAR
VERSION:2.0
PRODID:-//Plone.org//NONSGML plone.app.event//EN
X-WR-TIMEZONE:Europe/Rome
BEGIN:VEVENT
SUMMARY:Connettività del futuro per lo sviluppo del territorio
DTSTART;TZID=Europe/Rome;VALUE=DATE-TIME:20210924T143000
DTEND;TZID=Europe/Rome;VALUE=DATE-TIME:20210924T170000
DTSTAMP;VALUE=DATE-TIME:20260424T022008Z
UID:5120a933168b4df282d5ff59ed353b68@www.modenasmartlife.it
CATEGORIES:AMBIENTI DIGITALI,AMBIENTI ECOLOGICI,AMBIENTI SOCIALI,IN STREAM
 ING
CREATED;VALUE=DATE-TIME:20210910T093408Z
DESCRIPTION:Webinar di approfondimento di competenze\, opportunità e impl
 icazioni legate allo sviluppo del 5G\, con rappresentanti del mondo istitu
 zionale\, scientifico e imprenditoriale
LAST-MODIFIED;VALUE=DATE-TIME:20211020T094923Z
URL:https://www.modenasmartlife.it/edizioni-precedenti/2021/programma-24-s
 ettembre/connettivita-del-futuro-per-lo-sviluppo-del-territorio
END:VEVENT
BEGIN:VTIMEZONE
TZID:Europe/Rome
X-LIC-LOCATION:Europe/Rome
BEGIN:DAYLIGHT
DTSTART;VALUE=DATE-TIME:20210328T030000
TZNAME:CEST
TZOFFSETFROM:+0100
TZOFFSETTO:+0200
END:DAYLIGHT
END:VTIMEZONE
END:VCALENDAR
