BEGIN:VCALENDAR
VERSION:2.0
PRODID:-//Plone.org//NONSGML plone.app.event//EN
X-WR-TIMEZONE:Europe/Rome
BEGIN:VEVENT
SUMMARY:Dopo la globalizzazione. Proposte per un mondo nuovo
DTSTART;TZID=Europe/Rome;VALUE=DATE-TIME:20210924T173000
DTEND;TZID=Europe/Rome;VALUE=DATE-TIME:20210924T183000
DTSTAMP;VALUE=DATE-TIME:20260424T050823Z
UID:d920ae1663f24549b58f9200e79684c5@www.modenasmartlife.it
CATEGORIES:AMBIENTI DIGITALI,AMBIENTI ECOLOGICI,AMBIENTI SOCIALI,IN PRESEN
 ZA,IN STREAMING
CREATED;VALUE=DATE-TIME:20210910T102333Z
DESCRIPTION:Conferenza di Paolo Perulli (Università del Piemonte Oriental
 e). Introduce Carlo Altini (Direttore Scientifico della Fondazione Collegi
 o San Carlo).
GEO:44.645538;10.9273017
LAST-MODIFIED;VALUE=DATE-TIME:20211020T094925Z
LOCATION;ALTREP="https://www.modenasmartlife.it/luoghi/fondazione-san-carl
 o-teatro":Fondazione San Carlo - Teatro\, Via S. Carlo\, 5\, 41121 Modena\
 , Italy
URL:https://www.modenasmartlife.it/edizioni-precedenti/2021/programma-24-s
 ettembre/dopo-la-globalizzazione-proposte-per-un-mondo-nuovo
END:VEVENT
BEGIN:VTIMEZONE
TZID:Europe/Rome
X-LIC-LOCATION:Europe/Rome
BEGIN:DAYLIGHT
DTSTART;VALUE=DATE-TIME:20210328T030000
TZNAME:CEST
TZOFFSETFROM:+0100
TZOFFSETTO:+0200
END:DAYLIGHT
END:VTIMEZONE
END:VCALENDAR
