BEGIN:VCALENDAR
VERSION:2.0
PRODID:-//Plone.org//NONSGML plone.app.event//EN
X-WR-TIMEZONE:Europe/Rome
BEGIN:VEVENT
SUMMARY:Forme composte
DTSTART;TZID=Europe/Rome;VALUE=DATE-TIME:20210924T213000
DTEND;TZID=Europe/Rome;VALUE=DATE-TIME:20210924T223000
DTSTAMP;VALUE=DATE-TIME:20260423T163131Z
UID:98d7113b2bca4dc993b95341cc3ad265@www.modenasmartlife.it
CATEGORIES:AMBIENTI DIGITALI,AMBIENTI SOCIALI,IN PRESENZA
CREATED;VALUE=DATE-TIME:20210910T224309Z
DESCRIPTION:Performance audiovisiva con la partecipazione di Christian Fen
 nesz\, Ozmotic e del collettivo Forme Composte
GEO:44.6478977;10.9453731
LAST-MODIFIED;VALUE=DATE-TIME:20211020T094925Z
LOCATION;ALTREP="https://www.modenasmartlife.it/edizioni-precedenti/2021/l
 uoghi/la-torre_71-musichub":La Torre_71 MusicHub\, Antonio Morandi 71\, 41
 122 Modena\, Italy
URL:https://www.modenasmartlife.it/edizioni-precedenti/2021/programma-24-s
 ettembre/forme-composte
END:VEVENT
BEGIN:VTIMEZONE
TZID:Europe/Rome
X-LIC-LOCATION:Europe/Rome
BEGIN:DAYLIGHT
DTSTART;VALUE=DATE-TIME:20210328T030000
TZNAME:CEST
TZOFFSETFROM:+0100
TZOFFSETTO:+0200
END:DAYLIGHT
END:VTIMEZONE
END:VCALENDAR
