BEGIN:VCALENDAR
VERSION:2.0
PRODID:-//Plone.org//NONSGML plone.app.event//EN
X-WR-TIMEZONE:Europe/Rome
BEGIN:VEVENT
SUMMARY:Il valore del dato
DTSTART;TZID=Europe/Rome;VALUE=DATE-TIME:20210924T113000
DTEND;TZID=Europe/Rome;VALUE=DATE-TIME:20210924T123000
DTSTAMP;VALUE=DATE-TIME:20260422T175618Z
UID:599b1e3ee8504275878592d5bc33c87a@www.modenasmartlife.it
CATEGORIES:AMBIENTI DIGITALI,AMBIENTI SOCIALI,IN STREAMING
CREATED;VALUE=DATE-TIME:20210910T090917Z
DESCRIPTION:Webinar con Paolo Ghezzi (Direttore Generale InfoCamere) e Dom
 enico Tarantino (InfoCamere)\, dedicato all’approfondimento di temi lega
 ti a patrimonio informativo\, data driven policies e integrità dell’inf
 ormazione quali asset fondamentali per lo sviluppo
LAST-MODIFIED;VALUE=DATE-TIME:20211020T094923Z
URL:https://www.modenasmartlife.it/edizioni-precedenti/2021/programma-24-s
 ettembre/il-valore-del-dato
END:VEVENT
BEGIN:VTIMEZONE
TZID:Europe/Rome
X-LIC-LOCATION:Europe/Rome
BEGIN:DAYLIGHT
DTSTART;VALUE=DATE-TIME:20210328T030000
TZNAME:CEST
TZOFFSETFROM:+0100
TZOFFSETTO:+0200
END:DAYLIGHT
END:VTIMEZONE
END:VCALENDAR
