BEGIN:VCALENDAR
VERSION:2.0
PRODID:-//Plone.org//NONSGML plone.app.event//EN
X-WR-TIMEZONE:Europe/Rome
BEGIN:VEVENT
SUMMARY:Le conseguenze politiche del nuovo mercato degli algoritmi
DTSTART;TZID=Europe/Rome;VALUE=DATE-TIME:20210924T160000
DTEND;TZID=Europe/Rome;VALUE=DATE-TIME:20210924T170000
DTSTAMP;VALUE=DATE-TIME:20260423T135025Z
UID:f1094ff1d1804ac7bc5c93b0a2a01f93@www.modenasmartlife.it
CATEGORIES:AMBIENTI DIGITALI,AMBIENTI SOCIALI,IN PRESENZA,IN STREAMING
CREATED;VALUE=DATE-TIME:20210910T095651Z
DESCRIPTION:Talk con Stefano Feltri (Direttore Domani)\, Andrea Daniele Si
 gnorelli (giornalista). Modera: Ermes Ferrari (giornalista). Con la partec
 ipazione di Axyon AI.
GEO:44.645538;10.9273017
LAST-MODIFIED;VALUE=DATE-TIME:20211020T094924Z
LOCATION;ALTREP="https://www.modenasmartlife.it/edizioni-precedenti/2021/l
 uoghi/fondazione-san-carlo-sala-verde":Fondazione San Carlo - Sala verde\,
  San Carlo 5\, 41121 Modena\, Italy
URL:https://www.modenasmartlife.it/edizioni-precedenti/2021/programma-24-s
 ettembre/le-conseguenze-politiche-del-nuovo-mercato-degli-algoritmi
END:VEVENT
BEGIN:VTIMEZONE
TZID:Europe/Rome
X-LIC-LOCATION:Europe/Rome
BEGIN:DAYLIGHT
DTSTART;VALUE=DATE-TIME:20210328T030000
TZNAME:CEST
TZOFFSETFROM:+0100
TZOFFSETTO:+0200
END:DAYLIGHT
END:VTIMEZONE
END:VCALENDAR
