BEGIN:VCALENDAR
VERSION:2.0
PRODID:-//Plone.org//NONSGML plone.app.event//EN
X-WR-TIMEZONE:Europe/Rome
BEGIN:VEVENT
SUMMARY:Le imprese digitali\, ecologiche\, sociali
DTSTART;TZID=Europe/Rome;VALUE=DATE-TIME:20210924T150000
DTEND;TZID=Europe/Rome;VALUE=DATE-TIME:20210924T173000
DTSTAMP;VALUE=DATE-TIME:20260423T165027Z
UID:f2bf6b3387154a85bb202b3a4663104a@www.modenasmartlife.it
CATEGORIES:AMBIENTI DIGITALI,AMBIENTI ECOLOGICI,AMBIENTI SOCIALI,IN PRESEN
 ZA
CREATED;VALUE=DATE-TIME:20210910T094508Z
DESCRIPTION:Live & digital speech con Nicoletta Polliotto (Digital Food An
 d Tourism Marketer)\, Fabio Sgarbi (CEO NewLogic)\, Andrea Baioni (Digital
  Marketing Expert Ab Studio). Introduce e coordina Dr.ssa Rosanna Spinelli
  (DIH Confesercenti Modena).
GEO:44.6517379;10.9355264
LAST-MODIFIED;VALUE=DATE-TIME:20211020T094924Z
LOCATION;ALTREP="https://www.modenasmartlife.it/luoghi/confesercenti-moden
 a":Confesercenti Modena\, via paolo ferrari 79\, 41121 modena\, Italy
URL:https://www.modenasmartlife.it/edizioni-precedenti/2021/programma-24-s
 ettembre/le-imprese-digitali-ecologiche-sociali
END:VEVENT
BEGIN:VTIMEZONE
TZID:Europe/Rome
X-LIC-LOCATION:Europe/Rome
BEGIN:DAYLIGHT
DTSTART;VALUE=DATE-TIME:20210328T030000
TZNAME:CEST
TZOFFSETFROM:+0100
TZOFFSETTO:+0200
END:DAYLIGHT
END:VTIMEZONE
END:VCALENDAR
