BEGIN:VCALENDAR
VERSION:2.0
PRODID:-//Plone.org//NONSGML plone.app.event//EN
X-WR-TIMEZONE:Europe/Rome
BEGIN:VEVENT
SUMMARY:Modena Smart School
DTSTART;TZID=Europe/Rome;VALUE=DATE-TIME:20210924T150000
DTEND;TZID=Europe/Rome;VALUE=DATE-TIME:20210924T190000
DTSTAMP;VALUE=DATE-TIME:20260424T021356Z
UID:174513584c054b0ba030a56f45d1cc04@www.modenasmartlife.it
CATEGORIES:SMART SCHOOL,IN STREAMING
CREATED;VALUE=DATE-TIME:20210910T094648Z
DESCRIPTION:Memo e palestra digitale Makeitmodena. Presentazione di esperi
 enze e progetti sui temi del digitale degli istituti superiori di Modena
GEO:44.5750026;11.1152107
LAST-MODIFIED;VALUE=DATE-TIME:20211020T094924Z
LOCATION;ALTREP="https://www.modenasmartlife.it/edizioni-precedenti/2021/m
 emo-multicentro-educativo-sergio-neri":MEMO - Multicentro Educativo Sergio
  Neri\, Viale Barozzi\, 172\, 41124 Modena\, Italy
URL:https://www.modenasmartlife.it/edizioni-precedenti/2021/programma-24-s
 ettembre/modena-smart-school
END:VEVENT
BEGIN:VTIMEZONE
TZID:Europe/Rome
X-LIC-LOCATION:Europe/Rome
BEGIN:DAYLIGHT
DTSTART;VALUE=DATE-TIME:20210328T030000
TZNAME:CEST
TZOFFSETFROM:+0100
TZOFFSETTO:+0200
END:DAYLIGHT
END:VTIMEZONE
END:VCALENDAR
