BEGIN:VCALENDAR
VERSION:2.0
PRODID:-//Plone.org//NONSGML plone.app.event//EN
X-WR-TIMEZONE:Europe/Rome
BEGIN:VEVENT
SUMMARY:La didattica: lezioni dalla pandemia
DTSTART;TZID=Europe/Rome;VALUE=DATE-TIME:20210924T093000
DTEND;TZID=Europe/Rome;VALUE=DATE-TIME:20210924T103000
DTSTAMP;VALUE=DATE-TIME:20260422T164443Z
UID:6228245502f0419394443f2e34203934@www.modenasmartlife.it
CATEGORIES:AMBIENTI DIGITALI,AMBIENTI SOCIALI,IN STREAMING
CREATED;VALUE=DATE-TIME:20210610T082507Z
DESCRIPTION:Webinar con Giacomo Cabri (Unimore)\, Tindara Addabbo (Unimore
 )\, Laura Cerrocchi (Unimore)
LAST-MODIFIED;VALUE=DATE-TIME:20211020T094923Z
URL:https://www.modenasmartlife.it/edizioni-precedenti/2021/programma-24-s
 ettembre/prova-evento-24-settembre
END:VEVENT
BEGIN:VTIMEZONE
TZID:Europe/Rome
X-LIC-LOCATION:Europe/Rome
BEGIN:DAYLIGHT
DTSTART;VALUE=DATE-TIME:20210328T030000
TZNAME:CEST
TZOFFSETFROM:+0100
TZOFFSETTO:+0200
END:DAYLIGHT
END:VTIMEZONE
END:VCALENDAR
