BEGIN:VCALENDAR
VERSION:2.0
PRODID:-//Plone.org//NONSGML plone.app.event//EN
X-WR-TIMEZONE:Europe/Rome
BEGIN:VEVENT
SUMMARY:Sfide e opportunità del PNRR per città smart e sostenibili
DTSTART;TZID=Europe/Rome;VALUE=DATE-TIME:20210924T113000
DTEND;TZID=Europe/Rome;VALUE=DATE-TIME:20210924T123000
DTSTAMP;VALUE=DATE-TIME:20260422T163238Z
UID:8e44a44ca5c3400eb331cb99c7c5450c@www.modenasmartlife.it
CATEGORIES:AMBIENTI DIGITALI,AMBIENTI SOCIALI,AMBIENTI ECOLOGICI,IN PRESEN
 ZA,IN STREAMING
CREATED;VALUE=DATE-TIME:20210916T044445Z
DESCRIPTION:Talk con Paola Salomoni (Assessore a Scuola\, Università\, Ri
 cerca\, Agenda digitale della Regione Emilia-Romagna)\, Ludovica Carla Fer
 rari (Assessora a Città smart e Politiche economiche del Comune di Modena
 )\, Stefano Mineo (Dirigente Sistemi Informativi del Comune di Bologna)\, 
 Roberto Basso (Direttore External Affairs & Sustainability WINDTRE)\, Fabr
 izio Brasca (Innovation Manager WINDTRE)\, Roberto Cavicchioli (Unimore)
GEO:44.645538;10.9273017
LAST-MODIFIED;VALUE=DATE-TIME:20211020T094923Z
LOCATION;ALTREP="https://www.modenasmartlife.it/luoghi/fondazione-san-carl
 o-teatro":Fondazione San Carlo - Teatro\, Via S. Carlo\, 5\, 41121 Modena\
 , Italy
URL:https://www.modenasmartlife.it/edizioni-precedenti/2021/programma-24-s
 ettembre/sfide-e-opportunita-del-pnrr-per-citta-smart-e-sostenibili
END:VEVENT
BEGIN:VTIMEZONE
TZID:Europe/Rome
X-LIC-LOCATION:Europe/Rome
BEGIN:DAYLIGHT
DTSTART;VALUE=DATE-TIME:20210328T030000
TZNAME:CEST
TZOFFSETFROM:+0100
TZOFFSETTO:+0200
END:DAYLIGHT
END:VTIMEZONE
END:VCALENDAR
