BEGIN:VCALENDAR
VERSION:2.0
PRODID:-//Plone.org//NONSGML plone.app.event//EN
X-WR-TIMEZONE:Europe/Rome
BEGIN:VEVENT
SUMMARY:Smart city&smart life experience
DTSTART;TZID=Europe/Rome;VALUE=DATE-TIME:20210924T143000
DTEND;TZID=Europe/Rome;VALUE=DATE-TIME:20210924T180000
DTSTAMP;VALUE=DATE-TIME:20260422T164823Z
UID:4aaa18cc00b64ed19c7cc7a66f1c7092@www.modenasmartlife.it
CATEGORIES:AMBIENTI DIGITALI,AMBIENTI SOCIALI,IN PRESENZA
CREATED;VALUE=DATE-TIME:20210916T045822Z
DESCRIPTION:Corner interattivo per entrare nel mondo dell’IOT e dei Big 
 Data attraverso demo dedicate. Promosso da WindTre.
GEO:44.645538;10.9273017
LAST-MODIFIED;VALUE=DATE-TIME:20211020T094924Z
LOCATION;ALTREP="https://www.modenasmartlife.it/luoghi/fondazione-san-carl
 o-chiesa":Fondazione San Carlo - Chiesa\, Via S. Carlo\, 5\, 41121 Modena\
 , Italy
URL:https://www.modenasmartlife.it/edizioni-precedenti/2021/programma-24-s
 ettembre/smart-city-smart-life-experience
END:VEVENT
BEGIN:VTIMEZONE
TZID:Europe/Rome
X-LIC-LOCATION:Europe/Rome
BEGIN:DAYLIGHT
DTSTART;VALUE=DATE-TIME:20210328T030000
TZNAME:CEST
TZOFFSETFROM:+0100
TZOFFSETTO:+0200
END:DAYLIGHT
END:VTIMEZONE
END:VCALENDAR
