BEGIN:VCALENDAR
VERSION:2.0
PRODID:-//Plone.org//NONSGML plone.app.event//EN
X-WR-TIMEZONE:Europe/Rome
BEGIN:VEVENT
SUMMARY:Twin Transition: il digitale a supporto delle sfide del manifattur
 iero
DTSTART;TZID=Europe/Rome;VALUE=DATE-TIME:20210924T110000
DTEND;TZID=Europe/Rome;VALUE=DATE-TIME:20210924T123000
DTSTAMP;VALUE=DATE-TIME:20260422T181446Z
UID:a82facf979df4e37a1a85020afd17406@www.modenasmartlife.it
CATEGORIES:AMBIENTI DIGITALI,AMBIENTI ECOLOGICI,AMBIENTI SOCIALI,IN STREAM
 ING,IN PRESENZA
CREATED;VALUE=DATE-TIME:20210910T085822Z
DESCRIPTION:Talk e tavola rotonda con Stefano Bossi (Confindustria Emilia 
 Area Centro)\, Sergio Bertolucci (Bi-Rex)\, Simone Calderara (Unimore)\, G
 iovanna Cardinale (Società Italiana Tecnospazzole spa)\, Sara De Simoni (
 Tetra Pak Packaging Solutions spa)\, Marco Fainello (Engeneering srl)\, Mi
 rco Marchetti (Unimore).
GEO:44.645538;10.9273017
LAST-MODIFIED;VALUE=DATE-TIME:20211020T094923Z
LOCATION;ALTREP="https://www.modenasmartlife.it/luoghi/fondazione-san-carl
 o-chiesa":Fondazione San Carlo - Chiesa\, Via S. Carlo\, 5\, 41121 Modena\
 , Italy
URL:https://www.modenasmartlife.it/edizioni-precedenti/2021/programma-24-s
 ettembre/twin-transition-il-digitale-a-supporto-delle-sfide-del-manifattur
 iero
END:VEVENT
BEGIN:VTIMEZONE
TZID:Europe/Rome
X-LIC-LOCATION:Europe/Rome
BEGIN:DAYLIGHT
DTSTART;VALUE=DATE-TIME:20210328T030000
TZNAME:CEST
TZOFFSETFROM:+0100
TZOFFSETTO:+0200
END:DAYLIGHT
END:VTIMEZONE
END:VCALENDAR
