BEGIN:VCALENDAR
VERSION:2.0
PRODID:-//Plone.org//NONSGML plone.app.event//EN
X-WR-TIMEZONE:Europe/Rome
BEGIN:VEVENT
SUMMARY:Curare l'ambiente con la tecnologia. L’esperienza del depuratore
  di Modena e le innovative soluzioni di adattamento al cambiamento climati
 co
DTSTART;TZID=Europe/Rome;VALUE=DATE-TIME:20210925T100000
DTEND;TZID=Europe/Rome;VALUE=DATE-TIME:20210925T110000
DTSTAMP;VALUE=DATE-TIME:20260423T162321Z
UID:a3177a950ea74d20adae8a1624680fb4@www.modenasmartlife.it
CATEGORIES:AMBIENTI ECOLOGICI,AMBIENTI DIGITALI,IN STREAMING
CREATED;VALUE=DATE-TIME:20210920T002848Z
DESCRIPTION:Webinar con Andrea Bernardelli (Project Manager Ammagamma)\, P
 aolo Gelli (Responsabile per l’Emilia di Fognatura e Depurazione del Gru
 ppo Hera)\, Marco Merola (giornalista e autore di Adaptation.it). Modera F
 abrizio Monari (giornalista)
LAST-MODIFIED;VALUE=DATE-TIME:20211020T094926Z
URL:https://www.modenasmartlife.it/edizioni-precedenti/2021/programma-25-s
 ettembre/curare-lambiente-con-la-tecnologia-l2019esperienza-del-depuratore
 -di-modena-e-le-innovative-soluzioni-di-adattamento-al-cambiamento-climati
 co
END:VEVENT
BEGIN:VTIMEZONE
TZID:Europe/Rome
X-LIC-LOCATION:Europe/Rome
BEGIN:DAYLIGHT
DTSTART;VALUE=DATE-TIME:20210328T030000
TZNAME:CEST
TZOFFSETFROM:+0100
TZOFFSETTO:+0200
END:DAYLIGHT
END:VTIMEZONE
END:VCALENDAR
