BEGIN:VCALENDAR
VERSION:2.0
PRODID:-//Plone.org//NONSGML plone.app.event//EN
X-WR-TIMEZONE:Europe/Rome
BEGIN:VEVENT
SUMMARY:Internet sicuro e cyberbullismo
DTSTART;TZID=Europe/Rome;VALUE=DATE-TIME:20210925T180000
DTEND;TZID=Europe/Rome;VALUE=DATE-TIME:20210925T193000
DTSTAMP;VALUE=DATE-TIME:20260423T220810Z
UID:507017b9d41a452285fb2bdb04524881@www.modenasmartlife.it
CATEGORIES:AMBIENTI DIGITALI,AMBIENTI SOCIALI,IN PRESENZA,IN STREAMING
CREATED;VALUE=DATE-TIME:20210910T134819Z
DESCRIPTION:Talk con con Elena Casarini (Dirigente scolastico)\, Stefano M
 arani (Presidente Civibox)\, Cosimo Marco Scarcelli (Università di Padova
 ) e con la partecipazione degli studenti della Scuola Secondaria di Primo 
 Grado “Sacro Cuore” di Modena. Modera: Gianluca Dotti (giornalista)
GEO:44.6456653;10.9215313
LAST-MODIFIED;VALUE=DATE-TIME:20211020T094928Z
LOCATION;ALTREP="https://www.modenasmartlife.it/edizioni-precedenti/2021/m
 y-net-garage":My Net garage\, Via degli Adelardi\, 4\, 41121 Modena\, Ital
 y
URL:https://www.modenasmartlife.it/edizioni-precedenti/2021/programma-25-s
 ettembre/internet-sicuro-e-cyberbullismo
END:VEVENT
BEGIN:VTIMEZONE
TZID:Europe/Rome
X-LIC-LOCATION:Europe/Rome
BEGIN:DAYLIGHT
DTSTART;VALUE=DATE-TIME:20210328T030000
TZNAME:CEST
TZOFFSETFROM:+0100
TZOFFSETTO:+0200
END:DAYLIGHT
END:VTIMEZONE
END:VCALENDAR
