BEGIN:VCALENDAR
VERSION:2.0
PRODID:-//Plone.org//NONSGML plone.app.event//EN
X-WR-TIMEZONE:Europe/Rome
BEGIN:VEVENT
SUMMARY:La scuola al tempo del digitale. Il ruolo di docenti\, studenti e 
 genitori
DTSTART;TZID=Europe/Rome;VALUE=DATE-TIME:20210925T100000
DTEND;TZID=Europe/Rome;VALUE=DATE-TIME:20210925T110000
DTSTAMP;VALUE=DATE-TIME:20260420T125619Z
UID:81e37d6db9f9452f9fa150d6b8203787@www.modenasmartlife.it
CATEGORIES:AMBIENTI DIGITALI,AMBIENTI SOCIALI,IN PRESENZA,IN STREAMING
CREATED;VALUE=DATE-TIME:20210910T103938Z
DESCRIPTION:Conferenza di Barbara Volpi (Psicologa psicoterapeuta). Introd
 uce Giovanna Morini (Dirigente scolastico Liceo Muratori-San Carlo)
GEO:44.645538;10.9273017
LAST-MODIFIED;VALUE=DATE-TIME:20211020T094926Z
LOCATION;ALTREP="https://www.modenasmartlife.it/luoghi/fondazione-san-carl
 o-teatro":Fondazione San Carlo - Teatro\, Via S. Carlo\, 5\, 41121 Modena\
 , Italy
URL:https://www.modenasmartlife.it/edizioni-precedenti/2021/programma-25-s
 ettembre/la-scuola-al-tempo-del-digitale-il-ruolo-di-docenti-studenti-e-ge
 nitori
END:VEVENT
BEGIN:VTIMEZONE
TZID:Europe/Rome
X-LIC-LOCATION:Europe/Rome
BEGIN:DAYLIGHT
DTSTART;VALUE=DATE-TIME:20210328T030000
TZNAME:CEST
TZOFFSETFROM:+0100
TZOFFSETTO:+0200
END:DAYLIGHT
END:VTIMEZONE
END:VCALENDAR
