BEGIN:VCALENDAR
VERSION:2.0
PRODID:-//Plone.org//NONSGML plone.app.event//EN
X-WR-TIMEZONE:Europe/Rome
BEGIN:VEVENT
SUMMARY:La transizione ecologica può essere solo radicale. E digitale
DTSTART;TZID=Europe/Rome;VALUE=DATE-TIME:20210925T160000
DTEND;TZID=Europe/Rome;VALUE=DATE-TIME:20210925T170000
DTSTAMP;VALUE=DATE-TIME:20260424T050859Z
UID:7785517ab48a4ce2a00551d45acdc96b@www.modenasmartlife.it
CATEGORIES:AMBIENTI DIGITALI,AMBIENTI ECOLOGICI,IN PRESENZA,IN STREAMING
CREATED;VALUE=DATE-TIME:20210910T133101Z
DESCRIPTION:Talk con Pier Giorgio Ardeni (Università di Bologna) e Giovan
 na Faggionato (giornalista Domani)\, Vitalba Azzolini (giurista\, editoria
 lista Domani). Modera: Ermes Ferrari
GEO:44.645538;10.9273017
LAST-MODIFIED;VALUE=DATE-TIME:20211020T094927Z
LOCATION;ALTREP="https://www.modenasmartlife.it/edizioni-precedenti/2021/l
 uoghi/fondazione-san-carlo-sala-verde":Fondazione San Carlo - Sala verde\,
  San Carlo 5\, 41121 Modena\, Italy
URL:https://www.modenasmartlife.it/edizioni-precedenti/2021/programma-25-s
 ettembre/la-transizione-ecologica-puo-essere-solo-radicale-e-digitale
END:VEVENT
BEGIN:VTIMEZONE
TZID:Europe/Rome
X-LIC-LOCATION:Europe/Rome
BEGIN:DAYLIGHT
DTSTART;VALUE=DATE-TIME:20210328T030000
TZNAME:CEST
TZOFFSETFROM:+0100
TZOFFSETTO:+0200
END:DAYLIGHT
END:VTIMEZONE
END:VCALENDAR
