BEGIN:VCALENDAR
VERSION:2.0
PRODID:-//Plone.org//NONSGML plone.app.event//EN
X-WR-TIMEZONE:Europe/Rome
BEGIN:VEVENT
SUMMARY:Le residenze universitarie tra digitalizzazione\, transizione ecol
 ogica e socialità
DTSTART;TZID=Europe/Rome;VALUE=DATE-TIME:20210925T150000
DTEND;TZID=Europe/Rome;VALUE=DATE-TIME:20210925T163000
DTSTAMP;VALUE=DATE-TIME:20260424T051456Z
UID:cb11058e9e3444bd84d42cb7984f566e@www.modenasmartlife.it
CATEGORIES:AMBIENTI DIGITALI,AMBIENTI ECOLOGICI,AMBIENTI SOCIALI,IN PRESEN
 ZA,IN STREAMING
CREATED;VALUE=DATE-TIME:20210910T113012Z
DESCRIPTION:Talk con Arch. Antonio Magarò (Università degli Studi Roma T
 re)\, Laura Calcagnini (Università degli Studi Roma Tre)\, prof. Fabrizio
  Finucci (Università degli Studi Roma Tre)
GEO:44.645538;10.9273017
LAST-MODIFIED;VALUE=DATE-TIME:20211020T094927Z
LOCATION;ALTREP="https://www.modenasmartlife.it/luoghi/fondazione-san-carl
 o-chiesa":Fondazione San Carlo - Chiesa\, Via S. Carlo\, 5\, 41121 Modena\
 , Italy
URL:https://www.modenasmartlife.it/edizioni-precedenti/2021/programma-25-s
 ettembre/le-residenze-universitarie-tra-digitalizzazione-transizione-ecolo
 gica-e-socialita
END:VEVENT
BEGIN:VTIMEZONE
TZID:Europe/Rome
X-LIC-LOCATION:Europe/Rome
BEGIN:DAYLIGHT
DTSTART;VALUE=DATE-TIME:20210328T030000
TZNAME:CEST
TZOFFSETFROM:+0100
TZOFFSETTO:+0200
END:DAYLIGHT
END:VTIMEZONE
END:VCALENDAR
