BEGIN:VCALENDAR
VERSION:2.0
PRODID:-//Plone.org//NONSGML plone.app.event//EN
X-WR-TIMEZONE:Europe/Rome
BEGIN:VEVENT
SUMMARY:Recovery plan\, quel che serve per rendere l’Italia davvero smar
 t
DTSTART;TZID=Europe/Rome;VALUE=DATE-TIME:20210925T113000
DTEND;TZID=Europe/Rome;VALUE=DATE-TIME:20210925T123000
DTSTAMP;VALUE=DATE-TIME:20260423T115101Z
UID:5f891c2ec9914c30876651abac3345b3@www.modenasmartlife.it
CATEGORIES:AMBIENTI DIGITALI,AMBIENTI ECOLOGICI,AMBIENTI SOCIALI,IN PRESEN
 ZA,IN STREAMING
CREATED;VALUE=DATE-TIME:20210910T112150Z
DESCRIPTION:Talk con Alfredo Roma (Economista\, già presidente Enac)\, Al
 berto Papotti (segretario provinciale CNA Modena)\, Giovanna Faggionato (g
 iornalista Domani)\, Vitalba Azzolini (giurista\, editorialista Domani). M
 odera: Ermes Ferrari
GEO:44.645538;10.9273017
LAST-MODIFIED;VALUE=DATE-TIME:20211020T094927Z
LOCATION;ALTREP="https://www.modenasmartlife.it/edizioni-precedenti/2021/l
 uoghi/fondazione-san-carlo-sala-verde":Fondazione San Carlo - Sala verde\,
  San Carlo 5\, 41121 Modena\, Italy
URL:https://www.modenasmartlife.it/edizioni-precedenti/2021/programma-25-s
 ettembre/recovery-plan-quel-che-serve-per-rendere-l2019italia-davvero-smar
 t
END:VEVENT
BEGIN:VTIMEZONE
TZID:Europe/Rome
X-LIC-LOCATION:Europe/Rome
BEGIN:DAYLIGHT
DTSTART;VALUE=DATE-TIME:20210328T030000
TZNAME:CEST
TZOFFSETFROM:+0100
TZOFFSETTO:+0200
END:DAYLIGHT
END:VTIMEZONE
END:VCALENDAR
