BEGIN:VCALENDAR
VERSION:2.0
PRODID:-//Plone.org//NONSGML plone.app.event//EN
X-WR-TIMEZONE:Europe/Rome
BEGIN:VEVENT
SUMMARY:La seconda rivoluzione digitale
DTSTART;TZID=Europe/Rome;VALUE=DATE-TIME:20210926T100000
DTEND;TZID=Europe/Rome;VALUE=DATE-TIME:20210926T110000
DTSTAMP;VALUE=DATE-TIME:20260423T133602Z
UID:8b01da06d5d041e9bd4585ba8adf46b3@www.modenasmartlife.it
CATEGORIES:AMBIENTI DIGITALI,AMBIENTI SOCIALI,IN STREAMING
CREATED;VALUE=DATE-TIME:20210922T142040Z
DESCRIPTION:Webinar con Ettore Tazzioli (Direttore responsabile TRC Modena
 )\, Edwin Ferrari (Presidente e Ad TR Media)\, Francesco Cirsone (CEO Inte
 cgroup)\, Roberto Magnano (Responsabile Vendite Radiotelevisive Ei Towers)
LAST-MODIFIED;VALUE=DATE-TIME:20211020T094929Z
URL:https://www.modenasmartlife.it/edizioni-precedenti/2021/programma-26-s
 ettembre/la-seconda-rivoluzione-digitale
END:VEVENT
BEGIN:VTIMEZONE
TZID:Europe/Rome
X-LIC-LOCATION:Europe/Rome
BEGIN:DAYLIGHT
DTSTART;VALUE=DATE-TIME:20210328T030000
TZNAME:CEST
TZOFFSETFROM:+0100
TZOFFSETTO:+0200
END:DAYLIGHT
END:VTIMEZONE
END:VCALENDAR
